BEGIN:VCALENDAR
VERSION:2.0
PRODID:-//Viu el Vallès - ECPv5.1.1.1//NONSGML v1.0//EN
CALSCALE:GREGORIAN
METHOD:PUBLISH
X-WR-CALNAME:Viu el Vallès
X-ORIGINAL-URL:https://visitvalles.com
X-WR-CALDESC:Events for Viu el Vallès
BEGIN:VTIMEZONE
TZID:Europe/Madrid
BEGIN:DAYLIGHT
TZOFFSETFROM:+0100
TZOFFSETTO:+0200
TZNAME:CEST
DTSTART:20260329T010000
END:DAYLIGHT
BEGIN:STANDARD
TZOFFSETFROM:+0200
TZOFFSETTO:+0100
TZNAME:CET
DTSTART:20261025T010000
END:STANDARD
END:VTIMEZONE
BEGIN:VEVENT
DTSTART;TZID=Europe/Madrid:20260606T100000
DTEND;TZID=Europe/Madrid:20260606T123000
DTSTAMP:20260424T204823
CREATED:20260420T131339Z
LAST-MODIFIED:20260423T082747Z
UID:34483-1780740000-1780749000@visitvalles.com
SUMMARY:Visita "Tresors de la Terrassa medieval"
DESCRIPTION:Un viatge a la Terrassa medieval entre castells i tresors amagats\nHi ha històries que encara s’expliquen a través de les pedres… només cal saber on mirar. \nAquesta ruta et porta a descobrir dos dels espais més emblemàtics del passat medieval de Terrassa. Començarem pel Castell Cartoixa de Vallparadís\, una construcció del segle XII que va evolucionar fins a convertir-se en cartoixa. \nTravessant el parc de Vallparadís arribarem a la Seu d’Ègara\, un conjunt monumental únic que conserva vestigis des d’època ibèrica fins avui. Esglésies\, pintures i restes arqueològiques que expliquen una història mil·lenària en un sol espai. \nUn recorregut per connectar amb el passat… i entendre la ciutat amb una nova mirada. \n*Places limitades\, cal reserva prèvia\n\nOrganitza: Terrassa Turisme – Consulta tots els detalls a l’enllaç.\n
URL:https://visitvalles.com/events/visita-tresors-de-la-terrassa-medieval/2026-06-06/
LOCATION:Seu d’Ègara\, Plaça del Rector Homs\, Terrassa\, Vallès Occidental\, 08222\, Espanya
CATEGORIES:Visita guiada
ATTACH;FMTTYPE=image/jpeg:https://visitvalles.com/wp-content/uploads/2020/06/Museu-de-Terrassa.-El-castell-cartoixa-de-Vallparadís.jpg
ORGANIZER;CN="Ajuntament%20de%20Terrassa":MAILTO:turisme@terrassa.cat
GEO:41.566576294548;2.0183550085969
X-APPLE-STRUCTURED-LOCATION;VALUE=URI;X-ADDRESS=Seu d’Ègara Plaça del Rector Homs Terrassa Vallès Occidental 08222 Espanya;X-APPLE-RADIUS=500;X-TITLE=Plaça del Rector Homs:geo:2.0183550085969,41.566576294548
END:VEVENT
END:VCALENDAR