BEGIN:VCALENDAR
VERSION:2.0
PRODID:-//Viu el Vallès - ECPv5.1.1.1//NONSGML v1.0//EN
CALSCALE:GREGORIAN
METHOD:PUBLISH
X-WR-CALNAME:Viu el Vallès
X-ORIGINAL-URL:https://visitvalles.com
X-WR-CALDESC:Events for Viu el Vallès
BEGIN:VTIMEZONE
TZID:Europe/Madrid
BEGIN:DAYLIGHT
TZOFFSETFROM:+0100
TZOFFSETTO:+0200
TZNAME:CEST
DTSTART:20260329T010000
END:DAYLIGHT
BEGIN:STANDARD
TZOFFSETFROM:+0200
TZOFFSETTO:+0100
TZNAME:CET
DTSTART:20261025T010000
END:STANDARD
END:VTIMEZONE
BEGIN:VEVENT
DTSTART;TZID=Europe/Madrid:20260424T080000
DTEND;TZID=Europe/Madrid:20260424T170000
DTSTAMP:20260424T192324
CREATED:20260424T132339Z
LAST-MODIFIED:20260424T132339Z
UID:35759-1777017600-1777050000@visitvalles.com
SUMMARY:Visita teatralitzada "Tants fils\, tantes trames!" de Teresa Sánchez
DESCRIPTION:“Tants fils\, tantes trames”: el tèxtil pren vida en una visita teatralitzada\nHi ha històries que no s’expliquen igual quan les vius en primera persona. \nAquesta visita teatralitzada al Museu Tèxtil et convida a descobrir el món dels teixits a través de personatges que et guiaran entre fils\, trames i relats del passat. Una manera diferent d’apropar-se al patrimoni\, on la informació es combina amb l’escena i la interpretació. \nAl llarg del recorregut\, els espais del museu es transformen en petits escenaris que revelen com es vivia i es treballava al voltant del tèxtil\, amb moments que sorprenen tant a petits com a grans. \nUna proposta dinàmica per descobrir el tèxtil des d’una mirada més propera i participativa. \n*Places limitades\, cal reserva prèvia\n\nOrganitza: Museu Tèxtil de Terrassa – Consulta tots els detalls a l’enllaç.\n
URL:https://visitvalles.com/events/visita-teatralitzada-tants-fils-tantes-trames-de-teresa-sanchez/
END:VEVENT
END:VCALENDAR