BEGIN:VCALENDAR
VERSION:2.0
PRODID:-//Viu el Vallès - ECPv5.1.1.1//NONSGML v1.0//EN
CALSCALE:GREGORIAN
METHOD:PUBLISH
X-WR-CALNAME:Viu el Vallès
X-ORIGINAL-URL:https://visitvalles.com
X-WR-CALDESC:Events for Viu el Vallès
BEGIN:VTIMEZONE
TZID:Europe/Madrid
BEGIN:DAYLIGHT
TZOFFSETFROM:+0100
TZOFFSETTO:+0200
TZNAME:CEST
DTSTART:20260329T010000
END:DAYLIGHT
BEGIN:STANDARD
TZOFFSETFROM:+0200
TZOFFSETTO:+0100
TZNAME:CET
DTSTART:20261025T010000
END:STANDARD
END:VTIMEZONE
BEGIN:VEVENT
DTSTART;TZID=Europe/Madrid:20260613T100000
DTEND;TZID=Europe/Madrid:20260613T130000
DTSTAMP:20260424T204803
CREATED:20260420T131643Z
LAST-MODIFIED:20260423T081929Z
UID:34488-1781344800-1781355600@visitvalles.com
SUMMARY:Visita "Lluís Muncunill\, un modernisme d’alçada"
DESCRIPTION:Terrassa des de dalt: el modernisme de Muncunill com no l’has vist mai\nI si poguessis mirar la ciutat des d’una altra perspectiva? Aquesta visita et proposa descobrir l’obra de Lluís Muncunill des de punts elevats i poc habituals. Començarem per l’Ajuntament de Terrassa i l’Antic Institut Industrial\, amb vistes singulars del centre històric. \nEl moment clau arriba a la Torre del Palau\, on la ciutat s’obre als teus peus amb una sensació difícil d’oblidar. La ruta continua fins a la Masia Freixa* i el Vapor Aymerich\, Amat i Jover\, des d’on es desplega el característic “mar de maons”. \nUna experiència per redescobrir Terrassa… amb una nova mirada. \n  \n* Amb motiu de les obres de rehabilitació de la Masia Freixa no es podrà visitar el seu interior. \nPlaces limitades\, cal reserva prèvia\n\nOrganitza: Terrassa Turisme – Consulta tots els detalls a l’enllaç.\n
URL:https://visitvalles.com/events/visita-lluis-muncunill-un-modernisme-dalcada/2026-06-13/
LOCATION:Seu d’Ègara\, Plaça del Rector Homs\, Terrassa\, Vallès Occidental\, 08222\, Espanya
CATEGORIES:Visita guiada
ATTACH;FMTTYPE=image/jpeg:https://visitvalles.com/wp-content/uploads/2026/01/teulada_MNACTEC_Terrassa.jpg
GEO:41.566576294548;2.0183550085969
X-APPLE-STRUCTURED-LOCATION;VALUE=URI;X-ADDRESS=Seu d’Ègara Plaça del Rector Homs Terrassa Vallès Occidental 08222 Espanya;X-APPLE-RADIUS=500;X-TITLE=Plaça del Rector Homs:geo:2.0183550085969,41.566576294548
END:VEVENT
END:VCALENDAR