BEGIN:VCALENDAR
VERSION:2.0
PRODID:-//Viu el Vallès - ECPv5.1.1.1//NONSGML v1.0//EN
CALSCALE:GREGORIAN
METHOD:PUBLISH
X-WR-CALNAME:Viu el Vallès
X-ORIGINAL-URL:https://visitvalles.com
X-WR-CALDESC:Events for Viu el Vallès
BEGIN:VTIMEZONE
TZID:Europe/Madrid
BEGIN:DAYLIGHT
TZOFFSETFROM:+0100
TZOFFSETTO:+0200
TZNAME:CEST
DTSTART:20280326T010000
END:DAYLIGHT
BEGIN:STANDARD
TZOFFSETFROM:+0200
TZOFFSETTO:+0100
TZNAME:CET
DTSTART:20281029T010000
END:STANDARD
END:VTIMEZONE
BEGIN:VEVENT
DTSTART;TZID=Europe/Madrid:20280219T170000
DTEND;TZID=Europe/Madrid:20280219T183000
DTSTAMP:20260425T122522
CREATED:20260420T125250Z
LAST-MODIFIED:20260423T090834Z
UID:34415-1834592400-1834597800@visitvalles.com
SUMMARY:Visita "la Seu d'Ègara\, un conjunt únic a Europa"
DESCRIPTION:Un viatge per 1.500 anys d’història en un dels conjunts més únics de Catalunya\nHi ha llocs que concentren segles d’història en pocs metres… i aquest n’és un dels més sorprenents. \nAl cor del parc de Vallparadís\, el conjunt de les Esglésies de Sant Pere et convida a descobrir un espai excepcional on conviuen Sant Pere\, Sant Miquel i Santa Maria. Un recorregut que revela vestigis des d’època ibèrica fins avui\, amb una arquitectura i un patrimoni que no tenen equivalent. \nPintures murals altmedievals\, retaules gòtics i testimonis visigots conviuen en un entorn que aspira a ser reconegut com a Patrimoni de la Humanitat per la UNESCO. Una visita que va molt més enllà del que imagines. \nUna oportunitat per entendre la història del territori en un sol espai. \n*Places limitades\, cal reserva prèvia\n\nOrganitza: Museu de Terrassa – Consulta tots els detalls a l’enllaç.\n
URL:https://visitvalles.com/events/visita-la-seu-degara-un-conjunt-unic-a-europa/2028-02-19/
LOCATION:Seu d’Ègara\, Plaça del Rector Homs\, Terrassa\, Vallès Occidental\, 08222\, Espanya
CATEGORIES:Visita guiada
ATTACH;FMTTYPE=image/jpeg:https://visitvalles.com/wp-content/uploads/2024/10/Seu-Egara-miniatura-1.jpg
GEO:41.566576294548;2.0183550085969
X-APPLE-STRUCTURED-LOCATION;VALUE=URI;X-ADDRESS=Seu d’Ègara Plaça del Rector Homs Terrassa Vallès Occidental 08222 Espanya;X-APPLE-RADIUS=500;X-TITLE=Plaça del Rector Homs:geo:2.0183550085969,41.566576294548
END:VEVENT
END:VCALENDAR