BEGIN:VCALENDAR
VERSION:2.0
PRODID:-//Viu el Vallès - ECPv5.1.1.1//NONSGML v1.0//EN
CALSCALE:GREGORIAN
METHOD:PUBLISH
X-WR-CALNAME:Viu el Vallès
X-ORIGINAL-URL:https://visitvalles.com
X-WR-CALDESC:Events for Viu el Vallès
BEGIN:VTIMEZONE
TZID:Europe/Madrid
BEGIN:DAYLIGHT
TZOFFSETFROM:+0100
TZOFFSETTO:+0200
TZNAME:CEST
DTSTART:20260329T010000
END:DAYLIGHT
BEGIN:STANDARD
TZOFFSETFROM:+0200
TZOFFSETTO:+0100
TZNAME:CET
DTSTART:20261025T010000
END:STANDARD
END:VTIMEZONE
BEGIN:VEVENT
DTSTART;TZID=Europe/Madrid:20260501T120000
DTEND;TZID=Europe/Madrid:20260501T133000
DTSTAMP:20260424T192035
CREATED:20260424T093904Z
LAST-MODIFIED:20260424T093904Z
UID:35750-1777636800-1777642200@visitvalles.com
SUMMARY:Visita guiada "La lluita obrera a Santa Perpètua"
DESCRIPTION:La lluita obrera a Santa Perpètua: una visita única pel Dia dels Treballadors\nNo és una visita qualsevol: és una proposta pensada específicament per entendre el significat del Primer de Maig. \nEn el marc del Dia Internacional dels Treballadors\, el Museu del Treball i la Indústria Viva (Vapor Aranyó) ofereix un recorregut especial centrat en la història del moviment obrer a Santa Perpètua de Mogoda. \nDurant la visita descobriràs com les lluites laborals i l’organització dels treballadors van marcar el desenvolupament industrial i social del municipi. \nUna oportunitat única per connectar aquesta història amb el present i entendre el valor d’aquesta jornada. \n*Places limitades\, cal reserva prèvia\n\nOrganitza: Museu del Treball i la Indústria Viva – Consulta tots els detalls a l’enllaç.\n
URL:https://visitvalles.com/events/visita-guiada-la-lluita-obrera-a-santa-perpetua/
CATEGORIES:Visita guiada
ATTACH;FMTTYPE=image/jpeg:https://visitvalles.com/wp-content/uploads/2026/04/Visita_dia_treballadors_Santa_perpetua.jpg
END:VEVENT
END:VCALENDAR