BEGIN:VCALENDAR
VERSION:2.0
PRODID:-//Viu el Vallès - ECPv5.1.1.1//NONSGML v1.0//EN
CALSCALE:GREGORIAN
METHOD:PUBLISH
X-WR-CALNAME:Viu el Vallès
X-ORIGINAL-URL:https://visitvalles.com
X-WR-CALDESC:Events for Viu el Vallès
BEGIN:VTIMEZONE
TZID:Europe/Madrid
BEGIN:DAYLIGHT
TZOFFSETFROM:+0100
TZOFFSETTO:+0200
TZNAME:CEST
DTSTART:20260329T010000
END:DAYLIGHT
BEGIN:STANDARD
TZOFFSETFROM:+0200
TZOFFSETTO:+0100
TZNAME:CET
DTSTART:20261025T010000
END:STANDARD
END:VTIMEZONE
BEGIN:VEVENT
DTSTART;TZID=Europe/Madrid:20260426T110000
DTEND;TZID=Europe/Madrid:20260426T120000
DTSTAMP:20260424T204654
CREATED:20260421T124943Z
LAST-MODIFIED:20260423T100759Z
UID:34797-1777201200-1777204800@visitvalles.com
SUMMARY:Visita guiada “Guia’m pel Monestir”
DESCRIPTION:Una mirada diferent al Monestir: patrimoni\, inclusió i noves veus\nI si la manera d’explicar un lloc canviés completament la manera de veure’l? \n“Guia’m pel Monestir” és una visita comentada al claustre i al museu del Monestir de Sant Cugat conduïda per una persona amb síndrome d’Asperger. Una proposta que posa en valor tant el patrimoni com les capacitats i mirades diverses. \nEl recorregut forma part d’un projecte que aposta per l’accessibilitat real a la cultura i la inclusió social\, convertint la visita en una experiència enriquidora en tots els sentits. \nUna oportunitat per descobrir el monestir… des d’una perspectiva única. \n*Places limitades\, cal reserva prèvia\n\nOrganitza: Museu de Sant Cugat – Consulta tots els detalls a l’enllaç.\n
URL:https://visitvalles.com/events/visita-guiada-guiam-pel-monestir/2026-04-26/
CATEGORIES:Visita guiada
ATTACH;FMTTYPE=image/jpeg:https://visitvalles.com/wp-content/uploads/2024/05/Claustre-del-Monestir-de-Sant-Cugat-1.jpg
END:VEVENT
END:VCALENDAR