BEGIN:VCALENDAR
VERSION:2.0
PRODID:-//Viu el Vallès - ECPv5.1.1.1//NONSGML v1.0//EN
CALSCALE:GREGORIAN
METHOD:PUBLISH
X-WR-CALNAME:Viu el Vallès
X-ORIGINAL-URL:https://visitvalles.com
X-WR-CALDESC:Events for Viu el Vallès
BEGIN:VTIMEZONE
TZID:Europe/Madrid
BEGIN:DAYLIGHT
TZOFFSETFROM:+0100
TZOFFSETTO:+0200
TZNAME:CEST
DTSTART:20260329T010000
END:DAYLIGHT
BEGIN:STANDARD
TZOFFSETFROM:+0200
TZOFFSETTO:+0100
TZNAME:CET
DTSTART:20261025T010000
END:STANDARD
END:VTIMEZONE
BEGIN:VEVENT
DTSTART;TZID=Europe/Madrid:20260426T110000
DTEND;TZID=Europe/Madrid:20260426T130000
DTSTAMP:20260424T191705
CREATED:20260424T091602Z
LAST-MODIFIED:20260424T091602Z
UID:35743-1777201200-1777208400@visitvalles.com
SUMMARY:Visita guiada a la Casa Duran
DESCRIPTION:Casa Duran: una casa que explica com era Sabadell abans de la indústria\nNo és només una casa antiga: és una de les poques que permet entendre com es vivia i es treballava a la Sabadell preindustrial. \nLa Casa Duran combina habitatge\, producció agrícola i activitat econòmica en un mateix espai\, mostrant un model de vida avui desaparegut. Un conjunt singular que ajuda a entendre com era la ciutat abans del gran creixement industrial. \nDurant la visita guiada recorreràs les seves estances i descobriràs com funcionava aquesta casa\, amb espais tan destacats com l’antic celler a la planta baixa\, on encara es conserven les botes originals. \nUn espai clau per entendre d’on ve Sabadell i com s’ha transformat. \n*Places limitades\, cal reserva prèvia per telèfon o presencialment a l’Oficina de Turisme de Sabadell\n\nOrganitza: Sabadell Turisme i Museus de Sabadell – Consulta tots els detalls a l’enllaç.\n
URL:https://visitvalles.com/events/visita-guiada-a-la-casa-duran/
CATEGORIES:Visita guiada
ATTACH;FMTTYPE=image/jpeg:https://visitvalles.com/wp-content/uploads/2020/06/050d3f12-9595-4e08-becc-dfa26e8fca91.jpg
END:VEVENT
END:VCALENDAR