BEGIN:VCALENDAR
VERSION:2.0
PRODID:-//Viu el Vallès - ECPv5.1.1.1//NONSGML v1.0//EN
CALSCALE:GREGORIAN
METHOD:PUBLISH
X-WR-CALNAME:Viu el Vallès
X-ORIGINAL-URL:https://visitvalles.com
X-WR-CALDESC:Events for Viu el Vallès
BEGIN:VTIMEZONE
TZID:Europe/Madrid
BEGIN:DAYLIGHT
TZOFFSETFROM:+0100
TZOFFSETTO:+0200
TZNAME:CEST
DTSTART:20260329T010000
END:DAYLIGHT
BEGIN:STANDARD
TZOFFSETFROM:+0200
TZOFFSETTO:+0100
TZNAME:CET
DTSTART:20261025T010000
END:STANDARD
END:VTIMEZONE
BEGIN:VEVENT
DTSTART;TZID=Europe/Madrid:20260711T103000
DTEND;TZID=Europe/Madrid:20260711T123000
DTSTAMP:20260424T222353
CREATED:20260420T130549Z
LAST-MODIFIED:20260423T091412Z
UID:34478-1783765800-1783773000@visitvalles.com
SUMMARY:Visita "Flors i jardins modernistes"
DESCRIPTION:El Modernisme més viu: un recorregut entre flors\, formes i arquitectura\nT’has fixat mai en la natura que s’amaga als edificis de Terrassa? \nAquesta ruta et convida a descobrir com flors i plantes es transformen en art al Modernisme de Terrassa. Comencem al jardí de la Masia Freixa\, on la pèrgola\, les palmeres i el Sant Jordi de bronze marquen l’inici d’un recorregut ple de detalls inesperats. \nEl passeig continua cap a espais com la Farmàcia Albinyana\, l’Ajuntament o la Casa Barata\, on ferro\, vidre i pedra prenen formes orgàniques. El Teatre Principal i la Casa Alegre de Sagrera posen el punt final a un itinerari on la natura es filtra a cada racó. \nUna manera diferent de mirar la ciutat… a través dels seus detalls més subtils. \n*Places limitades\, cal reserva prèvia\nGratuït per als menors de 3 anys i socis del carnet Super3 (SX3)\, màxim 4 súpers per adult amb vincle familiar \n\nOrganitza: Terrassa Turisme – Consulta tots els detalls a l’enllaç.\n
URL:https://visitvalles.com/events/visita-flors-i-jardins-modernistes/2026-07-11/
LOCATION:Seu d’Ègara\, Plaça del Rector Homs\, Terrassa\, Vallès Occidental\, 08222\, Espanya
CATEGORIES:Visita guiada
ATTACH;FMTTYPE=image/jpeg:https://visitvalles.com/wp-content/uploads/2017/09/Jardins_Alegre_Sagrera_Terrassa.jpg
GEO:41.566576294548;2.0183550085969
X-APPLE-STRUCTURED-LOCATION;VALUE=URI;X-ADDRESS=Seu d’Ègara Plaça del Rector Homs Terrassa Vallès Occidental 08222 Espanya;X-APPLE-RADIUS=500;X-TITLE=Plaça del Rector Homs:geo:2.0183550085969,41.566576294548
END:VEVENT
END:VCALENDAR