BEGIN:VCALENDAR
VERSION:2.0
PRODID:-//Viu el Vallès - ECPv5.1.1.1//NONSGML v1.0//EN
CALSCALE:GREGORIAN
METHOD:PUBLISH
X-WR-CALNAME:Viu el Vallès
X-ORIGINAL-URL:https://visitvalles.com
X-WR-CALDESC:Events for Viu el Vallès
BEGIN:VTIMEZONE
TZID:Europe/Madrid
BEGIN:DAYLIGHT
TZOFFSETFROM:+0100
TZOFFSETTO:+0200
TZNAME:CEST
DTSTART:20260329T010000
END:DAYLIGHT
BEGIN:STANDARD
TZOFFSETFROM:+0200
TZOFFSETTO:+0100
TZNAME:CET
DTSTART:20261025T010000
END:STANDARD
END:VTIMEZONE
BEGIN:VEVENT
DTSTART;TZID=Europe/Madrid:20260607T120000
DTEND;TZID=Europe/Madrid:20260607T133000
DTSTAMP:20260424T222247
CREATED:20260420T132214Z
LAST-MODIFIED:20260422T101951Z
UID:34493-1780833600-1780839000@visitvalles.com
SUMMARY:Visita "Els secrets de la Casa de les Aigües"
DESCRIPTION:Un viatge al cor de l’aigua i la indústria que va transformar Barcelona\nSota Montcada s’amaga una infraestructura clau que va salvar Barcelona d’una crisi d’aigua… i que avui es pot recórrer. \nLa visita a la Casa de les Aigües et porta per un conjunt únic on enginyeria i modernisme es troben. Descobriràs la Sala de Pous\, amb els seus mosaics de trencadís\, i la impressionant Sala de Màquines\, que conserva unes peces gairebé úniques al món. \nEl recorregut continua per espais com la sala de control o la casa del maquinista\, que ajuden a entendre com funcionava aquest sistema pioner. Tot plegat culmina amb la icònica torre dipòsit\, símbol d’un passat industrial que encara defineix el territori. \nUna experiència per veure l’aigua —i la ciutat— amb uns altres ulls. \n*Places limitades\, cal reserva prèvia\n\nOrganitza: Museu Municipal de Montcada i Reixac – Consulta tots els detalls a l’enllaç.\n
URL:https://visitvalles.com/events/visita-els-secrets-de-la-casa-de-les-aigues/2026-06-07/
LOCATION:Parc de les Aigües (Montcada i Reixac)
CATEGORIES:Visita guiada
ATTACH;FMTTYPE=image/jpeg:https://visitvalles.com/wp-content/uploads/2026/04/Casa_aigues_montcada_i_reixac_interior-scaled.jpg
GEO:41.4131136;2.1654072
X-APPLE-STRUCTURED-LOCATION;VALUE=URI;X-ADDRESS=Parc de les Aigües (Montcada i Reixac);X-APPLE-RADIUS=500;X-TITLE=Parc de les Aigües (Montcada i Reixac):geo:2.1654072,41.4131136
END:VEVENT
END:VCALENDAR