BEGIN:VCALENDAR
VERSION:2.0
PRODID:-//Viu el Vallès - ECPv5.1.1.1//NONSGML v1.0//EN
CALSCALE:GREGORIAN
METHOD:PUBLISH
X-WR-CALNAME:Viu el Vallès
X-ORIGINAL-URL:https://visitvalles.com
X-WR-CALDESC:Events for Viu el Vallès
BEGIN:VTIMEZONE
TZID:Europe/Madrid
BEGIN:DAYLIGHT
TZOFFSETFROM:+0100
TZOFFSETTO:+0200
TZNAME:CEST
DTSTART:20260329T010000
END:DAYLIGHT
BEGIN:STANDARD
TZOFFSETFROM:+0200
TZOFFSETTO:+0100
TZNAME:CET
DTSTART:20261025T010000
END:STANDARD
END:VTIMEZONE
BEGIN:VEVENT
DTSTART;TZID=Europe/Madrid:20260405T110000
DTEND;TZID=Europe/Madrid:20260405T120000
DTSTAMP:20260424T175838
CREATED:20260421T132307Z
LAST-MODIFIED:20260423T100435Z
UID:34808-1775386800-1775390400@visitvalles.com
SUMMARY:Visita comentada “Oració\, treball i poder”
DESCRIPTION:Un passeig pel silenci i la pedra: descobreix el Monestir de Sant Cugat del Vallès\nHi ha espais on el temps sembla aturar-se… i aquest n’és un dels més especials. \nAquesta visita comentada et convida a endinsar-te al Monestir de Sant Cugat\, un dels grans referents del patrimoni medieval català. El seu claustre\, amb una col·lecció única de capitells romànics\, revela escenes i detalls que han perdurat durant segles. \nEl recorregut es completa amb les sales del museu\, on descobriràs com era la vida monàstica i l’evolució d’aquest conjunt monumental al llarg del temps. \nUna experiència per mirar el passat amb calma… i entendre’l des de dins. \n*Places limitades\, cal reserva prèvia\n\nOrganitza: Museu de Sant Cugat – Consulta tots els detalls a l’enllaç.\n
URL:https://visitvalles.com/events/visita-comentada-oracio-treball-i-poder/2026-04-05/
CATEGORIES:Visita guiada
ATTACH;FMTTYPE=image/jpeg:https://visitvalles.com/wp-content/uploads/2017/06/sant-cugat-i-Terrassa-en-tren-2.jpg
ORGANIZER;CN="Ajuntament%20de%20Sant%20Cugat%20del%20Vall%C3%A8s":MAILTO:museu@santcugat.cat
END:VEVENT
END:VCALENDAR