BEGIN:VCALENDAR
VERSION:2.0
PRODID:-//Viu el Vallès - ECPv5.1.1.1//NONSGML v1.0//EN
CALSCALE:GREGORIAN
METHOD:PUBLISH
X-WR-CALNAME:Viu el Vallès
X-ORIGINAL-URL:https://visitvalles.com
X-WR-CALDESC:Events for Viu el Vallès
BEGIN:VTIMEZONE
TZID:Europe/Madrid
BEGIN:DAYLIGHT
TZOFFSETFROM:+0100
TZOFFSETTO:+0200
TZNAME:CEST
DTSTART:20260329T010000
END:DAYLIGHT
BEGIN:STANDARD
TZOFFSETFROM:+0200
TZOFFSETTO:+0100
TZNAME:CET
DTSTART:20261025T010000
END:STANDARD
END:VTIMEZONE
BEGIN:VEVENT
DTSTART;TZID=Europe/Madrid:20260425T110000
DTEND;TZID=Europe/Madrid:20260425T123000
DTSTAMP:20260424T191911
CREATED:20260423T112743Z
LAST-MODIFIED:20260423T113024Z
UID:35417-1777114800-1777120200@visitvalles.com
SUMMARY:Ruta industrial
DESCRIPTION:Del fum al patrimoni: redescobreix la Sabadell industrial\nI si les xemeneies poguessin explicar la història de la ciutat? \nAquesta ruta et porta a descobrir la Sabadell que va liderar la Revolució Industrial a Catalunya. Una ciutat que\, gràcies al vapor\, es va convertir en un dels grans centres tèxtils i va guanyar el sobrenom de “la Manchester catalana”. \nPassejant entre antigues fàbriques i vapors reconvertits\, entendràs com aquell passat industrial ha deixat empremta en el paisatge urbà actual i en la identitat de la ciutat. \nUna manera diferent de mirar Sabadell… a través del seu llegat més transformador. \n*Places limitades\, cal reserva prèvia per telèfon o presencialment a l’Oficina de Turisme de Sabadell\n\nOrganitza: Oficina de Turisme de Sabadell i Museu d’història de Sabadell – Consulta tots els detalls a l’enllaç.\n
URL:https://visitvalles.com/events/ruta-industrial/
ATTACH;FMTTYPE=image/jpeg:https://visitvalles.com/wp-content/uploads/2020/06/VaporBuxedaVell-Editada.jpg
END:VEVENT
END:VCALENDAR