BEGIN:VCALENDAR
VERSION:2.0
PRODID:-//Viu el Vallès - ECPv5.1.1.1//NONSGML v1.0//EN
CALSCALE:GREGORIAN
METHOD:PUBLISH
X-WR-CALNAME:Viu el Vallès
X-ORIGINAL-URL:https://visitvalles.com
X-WR-CALDESC:Events for Viu el Vallès
BEGIN:VTIMEZONE
TZID:Europe/Madrid
BEGIN:DAYLIGHT
TZOFFSETFROM:+0100
TZOFFSETTO:+0200
TZNAME:CEST
DTSTART:20280326T010000
END:DAYLIGHT
BEGIN:STANDARD
TZOFFSETFROM:+0200
TZOFFSETTO:+0100
TZNAME:CET
DTSTART:20281029T010000
END:STANDARD
END:VTIMEZONE
BEGIN:VEVENT
DTSTART;TZID=Europe/Madrid:20280220T100000
DTEND;TZID=Europe/Madrid:20280220T133000
DTSTAMP:20260425T125044
CREATED:20260423T105455Z
LAST-MODIFIED:20260423T105455Z
UID:35412-1834653600-1834666200@visitvalles.com
SUMMARY:Portes obertes a l'aeroport de Sabadell
DESCRIPTION:Avions clàssics en acció: un matí únic a l’Aeroport de Sabadell\nNo cada dia pots veure avions històrics de tan a prop… i encara menys en moviment. \nLes jornades PAC Obert t’obren les portes de l’Aeroport de Sabadell per descobrir una col·lecció d’aeronaus clàssiques mantingudes per voluntaris i apassionats de l’aviació. Un espai on grans i petits poden connectar amb la història aeronàutica de manera directa. \nEl moment més esperat arriba amb les demostracions en vol\, quan aquests avions tornen a enlairar-se i ofereixen un espectacle difícil de veure en altres contextos. \nUna experiència gratuïta per viure l’aviació… més enllà de terra ferma. \n\n*L’accés a les jornades de portes obertes és lliure i gratuït. NO s’inclou l’entrada al Museu Aeronàutic de Catalunya. Per poder visitar el museu els dies de PAC Obert\, podeu comprar les vostres entrades fent click aquí.\n\nOrganitza: Fundació Parc Aeronàutic de Catalunya – Consulta tots els detalls a l’enllaç.\n
URL:https://visitvalles.com/events/portes-obertes-a-laeroport-de-sabadell/2028-02-20/
CATEGORIES:visita
ATTACH;FMTTYPE=image/jpeg:https://visitvalles.com/wp-content/uploads/2023/05/Fotos-propostes-web-5.jpg
END:VEVENT
END:VCALENDAR