BEGIN:VCALENDAR
VERSION:2.0
PRODID:-//Viu el Vallès - ECPv5.1.1.1//NONSGML v1.0//EN
CALSCALE:GREGORIAN
METHOD:PUBLISH
X-WR-CALNAME:Viu el Vallès
X-ORIGINAL-URL:https://visitvalles.com
X-WR-CALDESC:Events for Viu el Vallès
BEGIN:VTIMEZONE
TZID:Europe/Madrid
BEGIN:DAYLIGHT
TZOFFSETFROM:+0100
TZOFFSETTO:+0200
TZNAME:CEST
DTSTART:20260329T010000
END:DAYLIGHT
BEGIN:STANDARD
TZOFFSETFROM:+0200
TZOFFSETTO:+0100
TZNAME:CET
DTSTART:20261025T010000
END:STANDARD
END:VTIMEZONE
BEGIN:VEVENT
DTSTART;TZID=Europe/Madrid:20260515T193000
DTEND;TZID=Europe/Madrid:20260515T210000
DTSTAMP:20260424T234804
CREATED:20260424T095110Z
LAST-MODIFIED:20260424T095821Z
UID:35753-1778873400-1778878800@visitvalles.com
SUMMARY:Modernisme de nit: Visita Guiada a la residència Soldevila
DESCRIPTION:Modernisme de nit: una mirada diferent al patrimoni de Santa Perpètua\nQuan cau el sol\, els espais canvien… i la manera de descobrir-los també. \nAquesta visita nocturna et convida a explorar el modernisme de Santa Perpètua des d’una perspectiva poc habitual. El recorregut posa en valor elements arquitectònics i històrics que\, amb la llum i l’ambient de la nit\, prenen una nova dimensió. \nLa combinació de patrimoni\, relat i atmosfera converteix la visita en una experiència més immersiva\, on els detalls i les sensacions guanyen protagonisme. \nUna proposta per redescobrir el modernisme amb calma i des d’un punt de vista diferent. \n*Places limitades\, cal reserva prèvia (presencialment a la recepció del Museu – Horari d’obertura: de dimecres a divendres de 17 a 20 h i dissabte i diumenge de 11 a 14 h)\n\nOrganitza: Museu del Treball i la Indústria Viva – Consulta tots els detalls a l’enllaç.\n
URL:https://visitvalles.com/events/modernisme-de-nit-visita-guiada-a-la-residencia-soldevila/
CATEGORIES:Visita guiada
ATTACH;FMTTYPE=image/jpeg:https://visitvalles.com/wp-content/uploads/2026/02/granja_soldevila_3386.jpg
END:VEVENT
END:VCALENDAR