BEGIN:VCALENDAR
VERSION:2.0
PRODID:-//Viu el Vallès - ECPv5.1.1.1//NONSGML v1.0//EN
CALSCALE:GREGORIAN
METHOD:PUBLISH
X-WR-CALNAME:Viu el Vallès
X-ORIGINAL-URL:https://visitvalles.com
X-WR-CALDESC:Events for Viu el Vallès
BEGIN:VTIMEZONE
TZID:Europe/Madrid
BEGIN:DAYLIGHT
TZOFFSETFROM:+0100
TZOFFSETTO:+0200
TZNAME:CEST
DTSTART:20280326T010000
END:DAYLIGHT
BEGIN:STANDARD
TZOFFSETFROM:+0200
TZOFFSETTO:+0100
TZNAME:CET
DTSTART:20281029T010000
END:STANDARD
END:VTIMEZONE
BEGIN:VEVENT
DTSTART;VALUE=DATE:20280124
DTEND;VALUE=DATE:20280126
DTSTAMP:20260425T024619
CREATED:20260423T100100Z
LAST-MODIFIED:20260423T100100Z
UID:35374-1832284800-1832457599@visitvalles.com
SUMMARY:Fira de l’Oli i l’Olivera Becaruda d’Ullastrell
DESCRIPTION:L’oli com a protagonista: una fira per tastar\, descobrir i gaudir del producte local\nHi ha sabors que expliquen un territori… i aquí els podràs tastar de primera mà. \nLa Fira de l’Oli i l’Olivera Becaruda d’Ullastrell omple carrers i places amb productors\, gastronomia i activitats per a tots els públics. Una jornada per descobrir l’oli local i una varietat única com la becaruda\, cada cop més valorada. \nEntre parades\, tastos i propostes familiars\, la fira combina cuina\, cultura i ambient festiu\, amb música en directe i espais per gaudir del dia sense presses. \nUna oportunitat per connectar amb el territori… a través del gust. \n*Consulta el programa complet i organitza la teva visita\n\nOrganitza: Ajuntament d’Ullastrell – Consulta tots els detalls a l’enllaç.\n
URL:https://visitvalles.com/events/fira-de-loli-i-lolivera-becaruda-dullastrell/2028-01-24/
CATEGORIES:Fira
ATTACH;FMTTYPE=image/jpeg:https://visitvalles.com/wp-content/uploads/2025/12/Fira-Oli-Ullastrell_RM.jpg
END:VEVENT
END:VCALENDAR