BEGIN:VCALENDAR
VERSION:2.0
PRODID:-//Viu el Vallès - ECPv5.1.1.1//NONSGML v1.0//EN
CALSCALE:GREGORIAN
METHOD:PUBLISH
X-WR-CALNAME:Viu el Vallès
X-ORIGINAL-URL:https://visitvalles.com
X-WR-CALDESC:Events for Viu el Vallès
BEGIN:VTIMEZONE
TZID:Europe/Madrid
BEGIN:DAYLIGHT
TZOFFSETFROM:+0100
TZOFFSETTO:+0200
TZNAME:CEST
DTSTART:20260329T010000
END:DAYLIGHT
BEGIN:STANDARD
TZOFFSETFROM:+0200
TZOFFSETTO:+0100
TZNAME:CET
DTSTART:20261025T010000
END:STANDARD
END:VTIMEZONE
BEGIN:VEVENT
DTSTART;TZID=Europe/Madrid:20260414T080000
DTEND;TZID=Europe/Madrid:20260414T170000
DTSTAMP:20260424T191459
CREATED:20260414T115733Z
LAST-MODIFIED:20260416T080110Z
UID:34130-1776153600-1776186000@visitvalles.com
SUMMARY:Esdeveniment en producció
DESCRIPTION:Test text \n
URL:https://visitvalles.com/events/esdeveniment-en-produccio/
CATEGORIES:ciclisme
ATTACH;FMTTYPE=image/jpeg:https://visitvalles.com/wp-content/uploads/2026/02/eilot_del_paperotr800-460_museu_ant_cugat.jpg
END:VEVENT
END:VCALENDAR