BEGIN:VCALENDAR
VERSION:2.0
PRODID:-//Viu el Vallès - ECPv5.1.1.1//NONSGML v1.0//EN
CALSCALE:GREGORIAN
METHOD:PUBLISH
X-WR-CALNAME:Viu el Vallès
X-ORIGINAL-URL:https://visitvalles.com
X-WR-CALDESC:Events for Viu el Vallès
BEGIN:VTIMEZONE
TZID:Europe/Madrid
BEGIN:DAYLIGHT
TZOFFSETFROM:+0100
TZOFFSETTO:+0200
TZNAME:CEST
DTSTART:20260329T010000
END:DAYLIGHT
BEGIN:STANDARD
TZOFFSETFROM:+0200
TZOFFSETTO:+0100
TZNAME:CET
DTSTART:20261025T010000
END:STANDARD
END:VTIMEZONE
BEGIN:VEVENT
DTSTART;TZID=Europe/Madrid:20260414T080000
DTEND;TZID=Europe/Madrid:20260414T170000
DTSTAMP:20260420T160849
CREATED:20260414T115733Z
LAST-MODIFIED:20260416T080110Z
UID:34130-1776153600-1776186000@visitvalles.com
SUMMARY:Esdeveniment en producció
DESCRIPTION:Test text \n
URL:https://visitvalles.com/ca/events/esdeveniment-en-produccio/
CATEGORIES:ciclisme
ATTACH;FMTTYPE=image/jpeg:https://visitvalles.com/wp-content/uploads/2026/02/eilot_del_paperotr800-460_museu_ant_cugat.jpg
END:VEVENT
BEGIN:VEVENT
DTSTART;TZID=Europe/Madrid:20260419T113000
DTEND;TZID=Europe/Madrid:20260419T121500
DTSTAMP:20260420T160849
CREATED:20260420T130127Z
LAST-MODIFIED:20260420T130127Z
UID:34470-1776598200-1776600900@visitvalles.com
SUMMARY:Visita "Torre del Palau\, Terracium Castellum\, el sentinella de la ciutat"
DESCRIPTION:Terrassa als teus peus! \nEt proposem una visita turística a la Torre del Palau\, símbol de la ciutat. Una visita que et permetrà conèixer a fons els seus orígens\, els seus usos i la seva evolució. La pujada es fa per una escala de cargol que permet arribar a les diferents plantes internes i al terrat de merlets\, i no resulta gens feixuga. Un cop dalt\, les vistes són espectaculars i la sensació de tenir la ciutat als peus a vista d’ocell i de flotar en l’aire\, amb calma i silenci és única. Es recomana portar calçat adequat. \n
URL:https://visitvalles.com/ca/events/visita-torre-del-palau-terracium-castellum-el-sentinella-de-la-ciutat/2026-04-19/
LOCATION:Terrassa\, Vallès Occidental\, Espanya
CATEGORIES:Visita guiada
ATTACH;FMTTYPE=image/jpeg:https://visitvalles.com/wp-content/uploads/2017/05/Fotos-propostes-web-2.jpg
GEO:41.5631482;2.0054917
END:VEVENT
BEGIN:VEVENT
DTSTART;TZID=Europe/Madrid:20260420T110000
DTEND;TZID=Europe/Madrid:20260420T140000
DTSTAMP:20260420T160849
CREATED:20260420T133109Z
LAST-MODIFIED:20260420T133109Z
UID:34496-1776682800-1776693600@visitvalles.com
SUMMARY:Visita i taller familiar al Museu Internacional dels titelles de Catalunya
DESCRIPTION:Visita les nostres sales i descobreix titelles d’arreu del món\, des dels més antics fins als més innovadors. Aprendràs a reconèixer les seves diverses tècniques de manipulació i descobriràs els secrets que amaguen. \nPerò això no és tot! Cada titella té la seva història\, i nosaltres t’explicarem les anècdotes més sorprenents dels titellaires que els han donat vida. Moments únics\, divertits i entranyables que t’emocionaran! \n
URL:https://visitvalles.com/ca/events/visita-i-taller-familiar-al-museu-internacional-dels-titelles-de-catalunya/2026-04-20/
CATEGORIES:Familiar,Visita guiada
ATTACH;FMTTYPE=image/jpeg:https://visitvalles.com/wp-content/uploads/2023/03/MIT-Palau_RM8-e1744018512611.jpeg
END:VEVENT
BEGIN:VEVENT
DTSTART;TZID=Europe/Madrid:20260423T110000
DTEND;TZID=Europe/Madrid:20260423T110000
DTSTAMP:20260420T160849
CREATED:20260420T113550Z
LAST-MODIFIED:20260420T130249Z
UID:34151-1776942000-1776942000@visitvalles.com
SUMMARY:Visita "Terrassa: essència modernista"
DESCRIPTION:Un passeig per la Terrassa més autèntica: el Modernisme Industrial que respira! \nTasta la riquesa modernista de Terrassa en un passeig urbà que combina història\, arquitectura i identitat local. Comencem a la Casa Soler i Palet\, antic habitatge senyorial i actual espai cultural on es troba l’Oficina de Turisme. Just davant trobem la Casa Alegre de Sagrera\, una joia modernista que ens mostra la petjada burgesa de la ciutat. \nEl recorregut segueix pel carrer de Sant Pere on podrem observar edificis representatius com el Círcol Egarenc\, l’antic Hotel Peninsular i el Magatzem Torras\, testimonis del modernisme aplicat a l’arquitectura quotidiana. Continuarem pel carrer de la Rasa on trobarem alguns elements del patrimoni industrial que caracteritzen la ciutat: la Quadra del Vapor Ventalló\, Fàbrica i Magatzem Marcet i Poal i la Quadra de la Fàbrica Izard. Finalitzarem la ruta travessant el vestíbul de l’Ajuntament fins arribar a la Farmàcia Albinyana i el Mercat de la Independència. \n
URL:https://visitvalles.com/ca/events/visita-terrassa-essencia-modernista/2026-04-23/
LOCATION:Terrassa\, Vallès Occidental\, Espanya
CATEGORIES:Visita guiada
ATTACH;FMTTYPE=image/jpeg:https://visitvalles.com/wp-content/uploads/2026/01/Ajuntament_Fira-Modernista_4.jpg
GEO:41.5631482;2.0054917
END:VEVENT
BEGIN:VEVENT
DTSTART;TZID=Europe/Madrid:20260425T100000
DTEND;TZID=Europe/Madrid:20260425T130000
DTSTAMP:20260420T160849
CREATED:20260420T131643Z
LAST-MODIFIED:20260420T131643Z
UID:34485-1777111200-1777122000@visitvalles.com
SUMMARY:Visita "Lluís Muncunill\, un modernisme d’alçada"
DESCRIPTION:Vine i gaudeix d’unes vistes espectaculars. \nUs proposem conèixer l’obra arquitectònica de Lluís Muncunill\, l’arquitecte més prolífer de Terrassa durant el període del modernisme\, una mirada diferent\, des de llocs poc habituals. \nComençarem visitant l’edifici de l’Ajuntament de Terrassa\, l’obra neogòtica pública més representativa de la seva producció. Seguidament des de l’Antic Institut Industrial\, observarem una vista inusual del Raval de Montserrat. A continuació es pujarà a la Torre del Palau. Un cop d’alt\, les vistes són espectaculars i la sensació de tenir la ciutat als peus\, a vista d’ocell i de flotar en l’aire\, amb calma i silenci\, és única. Tot un privilegi a l’abast de pocs! En acabat ens traslladarem a un dels edificis més singulars de Lluís Muncunill: la Masia Freixa* per visitar l’exterior del edifici i deixar-nos seduir per les seves corbes. I\, per finalitzar la ruta\, ens desplaçarem fins l’antic Vapor Aymerich\, Amat i Jover on des del seu mirador es podrà veure l’autèntic «mar de maons» que descriuen les voltes de la teulada… Tot una mirada d’alçada! Per concloure\, s’oferirà un petit tastet de productes de proximitat. \n* Amb motiu de les obres de rehabilitació de la Masia Freixa no es podrà visitar el seu interior. \n
URL:https://visitvalles.com/ca/events/visita-lluis-muncunill-un-modernisme-dalcada/2026-04-25/
LOCATION:Terrassa\, Vallès Occidental\, Espanya
CATEGORIES:Visita guiada
ATTACH;FMTTYPE=image/jpeg:https://visitvalles.com/wp-content/uploads/2026/01/teulada_MNACTEC_Terrassa.jpg
GEO:41.5631482;2.0054917
END:VEVENT
BEGIN:VEVENT
DTSTART;TZID=Europe/Madrid:20260425T114500
DTEND;TZID=Europe/Madrid:20260425T131500
DTSTAMP:20260420T160849
CREATED:20260420T125250Z
LAST-MODIFIED:20260420T125336Z
UID:34369-1777117500-1777122900@visitvalles.com
SUMMARY:Visita "la Seu d'Ègara\, un conjunt únic a Europa"
DESCRIPTION:Gaudeix d’una visita al conjunt de les esglésies de Sant Pere\, al bell mig del parc de Vallparadís\, sobre el turó on hi ha l’antic nucli de Sant Pere de Terrassa. \nEs tracta d’un conjunt excepcional dins del patrimoni històric i artístic català. En aquests moments està en marxa la seva candidatura per obtenir la distinció de Patrimoni de la Humanitat\, que atorga la UNESCO\, basada en el caràcter únic i universal d’alguns elements singulars que conserva. \nLes esglésies de Sant Pere\, Sant Miquel i Santa Maria i el patrimoni arqueològic i artístic que contenen\, abasten una àmplia cronologia\, des d’època ibèrica fins a l’actualitat. Destaca l’arquitectura dels tres temples i els testimonis d’època visigoda\, les pintures murals altmedievals i romàniques i els retaules gòtics que s’han conservat. \nLa Seu d’ Ègara disposa de la certificació de turisme sostenible “Biosphere Sustainable Lifestyle” i està adaptada per a persones amb mobilitat reduïda i discapacitat sensorial. Consulteu amb el museu per a més informació. \n
URL:https://visitvalles.com/ca/events/visita-la-seu-degara-un-conjunt-unic-a-europa/2026-04-25/
LOCATION:Terrassa\, Vallès Occidental\, Espanya
CATEGORIES:Visita guiada
ATTACH;FMTTYPE=image/jpeg:https://visitvalles.com/wp-content/uploads/2024/10/Seu-Egara-miniatura-1.jpg
GEO:41.5631482;2.0054917
END:VEVENT
BEGIN:VEVENT
DTSTART;TZID=Europe/Madrid:20260430T110000
DTEND;TZID=Europe/Madrid:20260430T110000
DTSTAMP:20260420T160849
CREATED:20260420T113550Z
LAST-MODIFIED:20260420T130249Z
UID:34153-1777546800-1777546800@visitvalles.com
SUMMARY:Visita "Terrassa: essència modernista"
DESCRIPTION:Un passeig per la Terrassa més autèntica: el Modernisme Industrial que respira! \nTasta la riquesa modernista de Terrassa en un passeig urbà que combina història\, arquitectura i identitat local. Comencem a la Casa Soler i Palet\, antic habitatge senyorial i actual espai cultural on es troba l’Oficina de Turisme. Just davant trobem la Casa Alegre de Sagrera\, una joia modernista que ens mostra la petjada burgesa de la ciutat. \nEl recorregut segueix pel carrer de Sant Pere on podrem observar edificis representatius com el Círcol Egarenc\, l’antic Hotel Peninsular i el Magatzem Torras\, testimonis del modernisme aplicat a l’arquitectura quotidiana. Continuarem pel carrer de la Rasa on trobarem alguns elements del patrimoni industrial que caracteritzen la ciutat: la Quadra del Vapor Ventalló\, Fàbrica i Magatzem Marcet i Poal i la Quadra de la Fàbrica Izard. Finalitzarem la ruta travessant el vestíbul de l’Ajuntament fins arribar a la Farmàcia Albinyana i el Mercat de la Independència. \n
URL:https://visitvalles.com/ca/events/visita-terrassa-essencia-modernista/2026-04-30/
LOCATION:Terrassa\, Vallès Occidental\, Espanya
CATEGORIES:Visita guiada
ATTACH;FMTTYPE=image/jpeg:https://visitvalles.com/wp-content/uploads/2026/01/Ajuntament_Fira-Modernista_4.jpg
GEO:41.5631482;2.0054917
END:VEVENT
BEGIN:VEVENT
DTSTART;TZID=Europe/Madrid:20260502T100000
DTEND;TZID=Europe/Madrid:20260502T123000
DTSTAMP:20260420T160849
CREATED:20260420T131339Z
LAST-MODIFIED:20260420T131339Z
UID:34481-1777716000-1777725000@visitvalles.com
SUMMARY:Visita "Tresors de la Terrassa medieval"
DESCRIPTION:La Seu d’Ègara i el Castell Cartoixa de Vallparadís\, pedres amb ànima! \nUs proposem una ruta turística pel ric patrimoni medieval de la ciutat. En primer lloc visitarem el Castell Cartoixa de Vallparadís\, edifici original del s. XII que es converteix en cartoixa en els s. XIV-XV. Seguidament\, travessarem el Parc de Vallparadís\, un dels parcs més grans del nostre país\, fins arribar a la Seu d’Ègara i descobrir el que s’amaga darrere d’aquest conjunt monumental. Un tresor de valor incalculable que abasta un període ininterromput des de l’època ibèrica fins a l’actualitat: vestigis ibers i romans\, un gran complex episcopal dels s. V a VIII format per la basílica i després catedral d’Ègara (Santa Maria) i el seu baptisteri\, el temple funerari de Sant Miquel\, l’església parroquial de Sant Pere… així com pintures murals de l’alta edat mitjana\, pintures romàniques i retaules gòtics. Una visita a un espai que respira harmonia i pau\, i explica els seus secrets a través de les seves pedres amb ànima! \n
URL:https://visitvalles.com/ca/events/visita-tresors-de-la-terrassa-medieval/2026-05-02/
LOCATION:Terrassa\, Vallès Occidental\, Espanya
CATEGORIES:Visita guiada
ATTACH;FMTTYPE=image/jpeg:https://visitvalles.com/wp-content/uploads/2020/06/Museu-de-Terrassa.-El-castell-cartoixa-de-Vallparadís.jpg
GEO:41.5631482;2.0054917
END:VEVENT
END:VCALENDAR